BEGIN:VCALENDAR
VERSION:2.0
PRODID:-//wp-events-plugin.com//6.6.4.4//EN
BEGIN:VEVENT
UID:439@ap-solutions.com
DTSTART;TZID=America/Detroit:20200303T080000
DTEND;TZID=America/Detroit:20200304T160000
DTSTAMP:20191127T222722Z
URL:https://ap-solutions.com/events/j-std-001-cit-recertification-mar-3-4/
SUMMARY:J-STD-001 CIT Recertification Mar 3 - 4
DESCRIPTION:This is a training recertification course for J-STD-001 instruc
 tor training. The training takes place from March 3\, 2020 to March 4\, 20
 20.\n\n*******************************************************************
 *********************\n** CIT Renewal through Retesting Requirements (per 
 Policy &amp\; Procedures) **\n\nA CIT may renew his or her certification t
 hrough retesting. To qualify for renewal through retesting\, a CIT shall c
 onduct at least two IPC CIS courses to a minimum total of ten CIS candidat
 es during their twenty-four-month certification period. These courses shal
 l be conducted prior to their certification renewal testing. In order to q
 ualify for the renewal requirement.\n\nA CIT who fails to disclose when th
 ese teaching requirements have not been met are subject to revocation of a
 ny or all IPC Certificates held by the CIT.\n\n***************************
 *************************************************************\n\n&nbsp\;
CATEGORIES:J-STD-001,J-STD-001 CIT Instructor Training,J-STD-001 CIT
 Recertification Class
LOCATION:Ap Solutions\, 4500 Lee Road Suite 129\, Cleveland\, Ohio\, 44128\
 , United States
X-APPLE-STRUCTURED-LOCATION;VALUE=URI;X-ADDRESS=4500 Lee Road Suite 129\, C
 leveland\, Ohio\, 44128\, United States;X-APPLE-RADIUS=100;X-TITLE=Ap Solu
 tions:geo:0,0
END:VEVENT
BEGIN:VTIMEZONE
TZID:America/Detroit
X-LIC-LOCATION:America/Detroit
BEGIN:STANDARD
DTSTART:20191103T010000
TZOFFSETFROM:-0400
TZOFFSETTO:-0500
TZNAME:EST
END:STANDARD
END:VTIMEZONE
END:VCALENDAR