BEGIN:VCALENDAR
VERSION:2.0
PRODID:-//wp-events-plugin.com//6.6.4.4//EN
BEGIN:VEVENT
UID:711@ap-solutions.com
DTSTART;TZID=America/Detroit:20210809T080000
DTEND;TZID=America/Detroit:20210810T160000
DTSTAMP:20210213T023858Z
URL:https://ap-solutions.com/events/j-std-001-cit-recertification-august-9
 -10-2/
SUMMARY:J-STD-001 CIT Recertification Aug 9 - 10
DESCRIPTION:This is a training recertification course for J-STD-001 instruc
 tor training. The training takes place from August 9\, 2021 to August 10\,
  2021.\n\n****************************************************************
 ************************\n** CIT Renewal through Retesting Requirements (p
 er Policy &amp\; Procedures) **\n\nA CIT may renew his or her certificatio
 n through retesting. To qualify for renewal through retesting\, a CIT shal
 l conduct at least two IPC CIS courses to a minimum total of ten CIS candi
 dates during their twenty-four-month certification period. These courses s
 hall be conducted prior to their certification renewal testing. In order t
 o qualify for the renewal requirement.\n\nA CIT who fails to disclose when
  these teaching requirements have not been met are subject to revocation o
 f any or all IPC Certificates held by the CIT.\n\n************************
 ****************************************************************\n\n&nbsp\
 ;
CATEGORIES:J-STD-001,J-STD-001 CIT Instructor Training,J-STD-001 CIT
 Recertification Class
LOCATION:Ap Solutions\, 4500 Lee Road Suite 129\, Cleveland\, Ohio\, 44128\
 , United States
X-APPLE-STRUCTURED-LOCATION;VALUE=URI;X-ADDRESS=4500 Lee Road Suite 129\, C
 leveland\, Ohio\, 44128\, United States;X-APPLE-RADIUS=100;X-TITLE=Ap Solu
 tions:geo:0,0
END:VEVENT
BEGIN:VTIMEZONE
TZID:America/Detroit
X-LIC-LOCATION:America/Detroit
BEGIN:DAYLIGHT
DTSTART:20210314T030000
TZOFFSETFROM:-0500
TZOFFSETTO:-0400
TZNAME:EDT
END:DAYLIGHT
END:VTIMEZONE
END:VCALENDAR