BEGIN:VCALENDAR
VERSION:2.0
PRODID:-//wp-events-plugin.com//6.6.4.4//EN
BEGIN:VEVENT
UID:1930@ap-solutions.com
DTSTART;TZID=America/Detroit:20260706T080000
DTEND;TZID=America/Detroit:20260710T160000
DTSTAMP:20251201T163019Z
URL:https://ap-solutions.com/events/j-std-001-cit-certification-jul-6-10-2
 /
SUMMARY:J-STD-001 CIT Certification Jul 6 - 10
DESCRIPTION:This is a training course for J-STD-001 instructor training. Th
 e training takes place from July 6\, 2026 to July 10\, 2026.
CATEGORIES:J-STD-001,J-STD-001 CIT Certification Class,J-STD-001 CIT
 Instructor Training
LOCATION:Ap Solutions\, 4500 Lee Road Suite 129\, Cleveland\, Ohio\, 44128\
 , United States
X-APPLE-STRUCTURED-LOCATION;VALUE=URI;X-ADDRESS=4500 Lee Road Suite 129\, C
 leveland\, Ohio\, 44128\, United States;X-APPLE-RADIUS=100;X-TITLE=Ap Solu
 tions:geo:0,0
END:VEVENT
BEGIN:VTIMEZONE
TZID:America/Detroit
X-LIC-LOCATION:America/Detroit
BEGIN:DAYLIGHT
DTSTART:20260308T030000
TZOFFSETFROM:-0500
TZOFFSETTO:-0400
TZNAME:EDT
END:DAYLIGHT
END:VTIMEZONE
END:VCALENDAR