BEGIN:VCALENDAR
VERSION:2.0
PRODID:-//wp-events-plugin.com//6.6.4.4//EN
BEGIN:VEVENT
UID:1053@ap-solutions.com
DTSTART;TZID=America/Detroit:20230206T080000
DTEND;TZID=America/Detroit:20230210T160000
DTSTAMP:20221206T154828Z
URL:https://ap-solutions.com/events/j-std-001-cit-certification-feb-6-10/
SUMMARY:J-STD-001 CIT Certification Feb 6 - 10
DESCRIPTION:This is a training course for J-STD-001 instructor training. Th
 e training takes place from February 6\, 2023 to February 10\, 2023.
CATEGORIES:J-STD-001,J-STD-001 CIT Certification Class,J-STD-001 CIT
 Instructor Training
LOCATION:Ap Solutions\, 4500 Lee Road Suite 129\, Cleveland\, Ohio\, 44128\
 , United States
X-APPLE-STRUCTURED-LOCATION;VALUE=URI;X-ADDRESS=4500 Lee Road Suite 129\, C
 leveland\, Ohio\, 44128\, United States;X-APPLE-RADIUS=100;X-TITLE=Ap Solu
 tions:geo:0,0
END:VEVENT
BEGIN:VTIMEZONE
TZID:America/Detroit
X-LIC-LOCATION:America/Detroit
BEGIN:STANDARD
DTSTART:20221106T010000
TZOFFSETFROM:-0400
TZOFFSETTO:-0500
TZNAME:EST
END:STANDARD
END:VTIMEZONE
END:VCALENDAR