BEGIN:VCALENDAR
VERSION:2.0
PRODID:-//wp-events-plugin.com//6.6.4.4//EN
BEGIN:VEVENT
UID:1895@ap-solutions.com
DTSTART;TZID=America/Detroit:20260831T080000
DTEND;TZID=America/Detroit:20260904T160000
DTSTAMP:20251126T193808Z
URL:https://ap-solutions.com/events/ipc-a-620-space-addendum-aug-31-sep-4-
 2/
SUMMARY:IPC-A-620 Space Addendum Aug 31 - Sep 4
DESCRIPTION:This is a training course for IPC 620 Space Addendum training.
   The training takes place from August 31\, 2026 to September 4\, 2026.
CATEGORIES:620 Space Addendum
LOCATION:Ap Solutions\, 4500 Lee Road Suite 129\, Cleveland\, Ohio\, 44128\
 , United States
X-APPLE-STRUCTURED-LOCATION;VALUE=URI;X-ADDRESS=4500 Lee Road Suite 129\, C
 leveland\, Ohio\, 44128\, United States;X-APPLE-RADIUS=100;X-TITLE=Ap Solu
 tions:geo:0,0
END:VEVENT
BEGIN:VTIMEZONE
TZID:America/Detroit
X-LIC-LOCATION:America/Detroit
BEGIN:DAYLIGHT
DTSTART:20260308T030000
TZOFFSETFROM:-0500
TZOFFSETTO:-0400
TZNAME:EDT
END:DAYLIGHT
END:VTIMEZONE
END:VCALENDAR