BEGIN:VCALENDAR
VERSION:2.0
PRODID:-//wp-events-plugin.com//6.6.4.4//EN
BEGIN:VEVENT
UID:940@ap-solutions.com
DTSTART;TZID=America/Detroit:20221129T080000
DTEND;TZID=America/Detroit:20221202T160000
DTSTAMP:20220105T155935Z
URL:https://ap-solutions.com/events/ipc-a-610-cse-certification-nov-29-dec
 -2-22/
SUMMARY:IPC-A-610 CSE Certification Nov 29 - Dec 2
DESCRIPTION:This is a training course for IPC-A-610 CSE training. The train
 ing takes place from November 29\, 2022 to December 2\, 2022.
CATEGORIES:IPC CSE Certification,IPC-A-610
LOCATION:Ap Solutions\, 4500 Lee Road Suite 129\, Cleveland\, Ohio\, 44128\
 , United States
X-APPLE-STRUCTURED-LOCATION;VALUE=URI;X-ADDRESS=4500 Lee Road Suite 129\, C
 leveland\, Ohio\, 44128\, United States;X-APPLE-RADIUS=100;X-TITLE=Ap Solu
 tions:geo:0,0
END:VEVENT
BEGIN:VTIMEZONE
TZID:America/Detroit
X-LIC-LOCATION:America/Detroit
BEGIN:STANDARD
DTSTART:20221106T010000
TZOFFSETFROM:-0400
TZOFFSETTO:-0500
TZNAME:EST
END:STANDARD
END:VTIMEZONE
END:VCALENDAR