BEGIN:VCALENDAR
VERSION:2.0
PRODID:-//wp-events-plugin.com//6.6.4.4//EN
BEGIN:VEVENT
UID:931@ap-solutions.com
DTSTART;TZID=America/Detroit:20220815T080000
DTEND;TZID=America/Detroit:20220818T160000
DTSTAMP:20220105T144931Z
URL:https://ap-solutions.com/events/ipc-a-610-cit-certification-aug-15-18-
 22/
SUMMARY:IPC-A-610 CIT Certification Aug 15 - 18
DESCRIPTION:This is a training course for IPC-A-610 instructor training. Th
 e training takes place from August 15\, 2022 to August 18\, 2022.
CATEGORIES:IPC-A-610,IPC-A-610 CIT certification
LOCATION:Ap Solutions\, 4500 Lee Road Suite 129\, Cleveland\, Ohio\, 44128\
 , United States
X-APPLE-STRUCTURED-LOCATION;VALUE=URI;X-ADDRESS=4500 Lee Road Suite 129\, C
 leveland\, Ohio\, 44128\, United States;X-APPLE-RADIUS=100;X-TITLE=Ap Solu
 tions:geo:0,0
END:VEVENT
BEGIN:VTIMEZONE
TZID:America/Detroit
X-LIC-LOCATION:America/Detroit
BEGIN:DAYLIGHT
DTSTART:20220313T030000
TZOFFSETFROM:-0500
TZOFFSETTO:-0400
TZNAME:EDT
END:DAYLIGHT
END:VTIMEZONE
END:VCALENDAR