BEGIN:VCALENDAR
VERSION:2.0
PRODID:-//wp-events-plugin.com//6.6.4.4//EN
BEGIN:VEVENT
UID:1901@ap-solutions.com
DTSTART;TZID=America/Detroit:20260908T080000
DTEND;TZID=America/Detroit:20260910T160000
DTSTAMP:20251126T195020Z
URL:https://ap-solutions.com/events/ipc-a-600-cit-certification-recertific
 ation-sep-8-10-2/
SUMMARY:IPC-A-600 CIT Certification/Recertification Sep 8 - 10
DESCRIPTION:This is a training course for IPC-A-600 instructor training.  
 The training takes place from September 8\, 2026 to September 10\, 2026.\n
 \n************************************************************************
 ****************\n** CIT Renewal through Retesting Requirements (per Polic
 y &amp\; Procedures) **\n\nA CIT may renew his or her certification throug
 h retesting. To qualify for renewal through retesting\, a CIT shall conduc
 t at least two IPC CIS courses to a minimum total of ten CIS candidates du
 ring their twenty-four-month certification period. These courses shall be 
 conducted prior to their certification renewal testing. In order to qualif
 y for the renewal requirement.\n\nA CIT who fails to disclose when these t
 eaching requirements have not been met are subject to revocation of any or
  all IPC Certificates held by the CIT.\n\n********************************
 ********************************************************\n\n&nbsp\;\n\n&nb
 sp\;
CATEGORIES:IPC-A-600,IPC-A-600 CIT Instructor Training,IPC-A-600-CIT
 Certification/Recert
LOCATION:Ap Solutions\, 4500 Lee Road Suite 129\, Cleveland\, Ohio\, 44128\
 , United States
X-APPLE-STRUCTURED-LOCATION;VALUE=URI;X-ADDRESS=4500 Lee Road Suite 129\, C
 leveland\, Ohio\, 44128\, United States;X-APPLE-RADIUS=100;X-TITLE=Ap Solu
 tions:geo:0,0
END:VEVENT
BEGIN:VTIMEZONE
TZID:America/Detroit
X-LIC-LOCATION:America/Detroit
BEGIN:DAYLIGHT
DTSTART:20260308T030000
TZOFFSETFROM:-0500
TZOFFSETTO:-0400
TZNAME:EDT
END:DAYLIGHT
END:VTIMEZONE
END:VCALENDAR