BEGIN:VCALENDAR
VERSION:2.0
PRODID:-//wp-events-plugin.com//6.6.4.4//EN
BEGIN:VEVENT
UID:1196@ap-solutions.com
DTSTART;TZID=America/Detroit:20230905T080000
DTEND;TZID=America/Detroit:20230908T160000
DTSTAMP:20221221T155806Z
URL:https://ap-solutions.com/events/ipc-a-600-cit-certification-recertific
 ation-sep-5-8/
SUMMARY:IPC-A-600 CIT Certification/Recertification Sep 5 - 8
DESCRIPTION:This is a training course for IPC-A-600 instructor training.  
 The training takes place from September 5\, 2023 to September 8\, 2023.\n\
 n*************************************************************************
 ***************\n** CIT Renewal through Retesting Requirements (per Policy
  &amp\; Procedures) **\n\nA CIT may renew his or her certification through
  retesting. To qualify for renewal through retesting\, a CIT shall conduct
  at least two IPC CIS courses to a minimum total of ten CIS candidates dur
 ing their twenty-four-month certification period. These courses shall be c
 onducted prior to their certification renewal testing. In order to qualify
  for the renewal requirement.\n\nA CIT who fails to disclose when these te
 aching requirements have not been met are subject to revocation of any or 
 all IPC Certificates held by the CIT.\n\n*********************************
 *******************************************************\n\n&nbsp\;\n\n&nbs
 p\;
CATEGORIES:IPC-A-600,IPC-A-600 CIT Instructor Training,IPC-A-600-CIT
 Certification/Recert
LOCATION:Ap Solutions\, 4500 Lee Road Suite 129\, Cleveland\, Ohio\, 44128\
 , United States
X-APPLE-STRUCTURED-LOCATION;VALUE=URI;X-ADDRESS=4500 Lee Road Suite 129\, C
 leveland\, Ohio\, 44128\, United States;X-APPLE-RADIUS=100;X-TITLE=Ap Solu
 tions:geo:0,0
END:VEVENT
BEGIN:VTIMEZONE
TZID:America/Detroit
X-LIC-LOCATION:America/Detroit
BEGIN:DAYLIGHT
DTSTART:20230312T030000
TZOFFSETFROM:-0500
TZOFFSETTO:-0400
TZNAME:EDT
END:DAYLIGHT
END:VTIMEZONE
END:VCALENDAR