BEGIN:VCALENDAR
VERSION:2.0
PRODID:-//wp-events-plugin.com//6.6.4.4//EN
BEGIN:VEVENT
UID:1026@ap-solutions.com
DTSTART;TZID=America/Detroit:20220705T080000
DTEND;TZID=America/Detroit:20220707T160000
DTSTAMP:20220107T202736Z
URL:https://ap-solutions.com/events/ipc-a-600-cis-certification-recertific
 ation-jul-5-7-2/
SUMMARY:IPC-A-600 CIS Certification/Recertification Jul 5 - 7
DESCRIPTION:This is a training course for IPC-A-600 operator training.  Th
 e training takes place from July 5\, 2022 to July 7\, 2022.
CATEGORIES:IPC-A-600,IPC-A-600 CIS Certification/Recert,IPC-A-600 CIS
 Operator Training
LOCATION:Ap Solutions\, 4500 Lee Road Suite 129\, Cleveland\, Ohio\, 44128\
 , United States
X-APPLE-STRUCTURED-LOCATION;VALUE=URI;X-ADDRESS=4500 Lee Road Suite 129\, C
 leveland\, Ohio\, 44128\, United States;X-APPLE-RADIUS=100;X-TITLE=Ap Solu
 tions:geo:0,0
END:VEVENT
BEGIN:VTIMEZONE
TZID:America/Detroit
X-LIC-LOCATION:America/Detroit
BEGIN:DAYLIGHT
DTSTART:20220313T030000
TZOFFSETFROM:-0500
TZOFFSETTO:-0400
TZNAME:EDT
END:DAYLIGHT
END:VTIMEZONE
END:VCALENDAR