BEGIN:VCALENDAR
VERSION:2.0
PRODID:-//wp-events-plugin.com//6.6.4.4//EN
BEGIN:VEVENT
UID:1262@ap-solutions.com
DTSTART;TZID=America/Detroit:20231227T080000
DTEND;TZID=America/Detroit:20231228T160000
DTSTAMP:20221221T210534Z
URL:https://ap-solutions.com/events/7711-7721-cit-recertification-dec-27-2
 8/
SUMMARY:7711/7721 CIT Recertification Dec 27 - 28
DESCRIPTION:This is a training recertification course for 7711/7721 instruc
 tor training.  The training takes place from December 27\, 2023\, to Dece
 mber 28\, 2023.\n\n*******************************************************
 *********************************\n\n** CIT Renewal through Retesting Requ
 irements (per Policy &amp\; Procedures) **\n\nA CIT may renew his or her c
 ertification through retesting. To qualify for renewal through retesting\,
  a CIT shall conduct at least two IPC CIS courses to a minimum total of te
 n CIS candidates during their twenty-four-month certification period. Thes
 e courses shall be conducted prior to their certification renewal testing.
  In order to qualify for the renewal requirement.\n\nA CIT who fails to di
 sclose when these teaching requirements have not been met are subject to r
 evocation of any or all IPC Certificates held by the CIT.\n\n*************
 **************************************************************************
 *\n\n&nbsp\;\n\n&nbsp\;
CATEGORIES:7711-7721 CIT Recertification Class,7711/7721,7711/7721 CIT
 Instructor Training
LOCATION:Ap Solutions\, 4500 Lee Road Suite 129\, Cleveland\, Ohio\, 44128\
 , United States
X-APPLE-STRUCTURED-LOCATION;VALUE=URI;X-ADDRESS=4500 Lee Road Suite 129\, C
 leveland\, Ohio\, 44128\, United States;X-APPLE-RADIUS=100;X-TITLE=Ap Solu
 tions:geo:0,0
END:VEVENT
BEGIN:VTIMEZONE
TZID:America/Detroit
X-LIC-LOCATION:America/Detroit
BEGIN:STANDARD
DTSTART:20231105T010000
TZOFFSETFROM:-0400
TZOFFSETTO:-0500
TZNAME:EST
END:STANDARD
END:VTIMEZONE
END:VCALENDAR