BEGIN:VCALENDAR
VERSION:2.0
PRODID:-//wp-events-plugin.com//6.6.4.4//EN
BEGIN:VEVENT
UID:1487@ap-solutions.com
DTSTART;TZID=America/Detroit:20241216T080000
DTEND;TZID=America/Detroit:20241220T160000
DTSTAMP:20240322T171938Z
URL:https://ap-solutions.com/events/7711-7721-cit-certification-dec-16-20-
 2/
SUMMARY:7711/7721 CIT Certification Dec 16 - 20
DESCRIPTION:This is a training course for 7711/7721 instructor training.  
 The training takes place from December 16\, 2024\, to December 20\, 2024.
CATEGORIES:7711-7721 CIT Certification Class,7711/7721,7711/7721 CIT
 Instructor Training
LOCATION:Ap Solutions\, 4500 Lee Road Suite 129\, Cleveland\, Ohio\, 44128\
 , United States
X-APPLE-STRUCTURED-LOCATION;VALUE=URI;X-ADDRESS=4500 Lee Road Suite 129\, C
 leveland\, Ohio\, 44128\, United States;X-APPLE-RADIUS=100;X-TITLE=Ap Solu
 tions:geo:0,0
END:VEVENT
BEGIN:VTIMEZONE
TZID:America/Detroit
X-LIC-LOCATION:America/Detroit
BEGIN:STANDARD
DTSTART:20241103T010000
TZOFFSETFROM:-0400
TZOFFSETTO:-0500
TZNAME:EST
END:STANDARD
END:VTIMEZONE
END:VCALENDAR